Workbook

Sheet Contents 
C9: Databook ПАО "ВУШ Холдинг" по МСФО 17.07.2026
C11: Содержание
C12: 1. Отчет о финансовом положении
C13: 2. Отчет о прибыли или убытке (отчётные периоды)
C14: 3. Отчет о прибыли или убытке (некумулятивные отчётные периоды)
C15: 4. Отчет о движении денежных средств (отчётные периоды)
C16: 5. Отчет о движении денежных средств (некумулятивные отчётные периоды)
C17: 6. Ключевые финансовые показатели (отчётные периоды)
C18: 7. Ключевые финансовые показатели (некумулятивные отчётные периоды)
C19: 8. Ключевые операционные показатели
C20: Ограничение ответственности
C22: Настоящий databook основан на консолидированной финансовой отчетности ПАО "ВУШ Холдинг" по МСФО. Любые расхождения между текущим файлом с данными и финансовой отчетностью по МСФО являются непреднамеренными.
... C25: Показатели на листах 3. Income Statement (period), 5. Cash Flow Statement (period) и 7. Key Financials (period) получены путем вычитания значений предыдущего отчетного периода из значений текущего отчетного периода на листах 2. Income Statement (accum), 4. Cash Flow Statement (accum) и 6. Key Financials (accum).

Sheet 1. Balance Sheet
A1: Отчет о финансовом положении
A2: Назад к оглавлению
A3: тыс. руб., если не указано иное | B3: 43830 | C3: 44196 | D3: 44561 | E3: 44742 | F3: 44834 | G3: 44926 | H3: 45107 | I3: 45199 | J3: 45291 | K3: 45473 | L3: 45565 | M3: 45657 | N3: 45838 | O3: 45930 | P3: 46022 | Q3: 46203
A4: АКТИВЫ
A5: Внеоборотные активы
A6: Основные средства | B6: 40049 | C6: 264881 | D6: 2534051 | E6: 4985190 | F6: 5106071 | G6: 6603575 | H6: 9396540 | I6: 10096098 | J6: 11269385 | K6: 14352136 | L6: 13849357 | M6: 14007676 | N6: 16138135 | O6: 15363573 | P6: 15501753 | Q6: 14466095
A7: Нематериальные активы | B7: 15457 | C7: 16877 | D7: 12109 | E7: 17105 | F7: 21929 | G7: 23358 | H7: 39302 | I7: 54726 | J7: 70241 | K7: 141323 | L7: 265132 | M7: 277046 | N7: 331194 | O7: 363667 | P7: 406728 | Q7: 411536
A8: Прочие внеоборотные активы / Авансы поставщикам основных средств | B8: 0 | C8: 980430 | D8: 1417602 | E8: 204346 | F8: 169724 | G8: 857210 | H8: 236493 | I8: 54929 | J8: 1302231 | K8: 434035 | L8: 329685 | M8: 890973 | N8: 60034 | O8: 14100 | P8: 21917 | Q8: 112570
A9: Отложенные налоговые активы | B9: 0 | C9: 0 | D9: 0 | E9: 0 | F9: 3098 | G9: 34120 | H9: 57976 | I9: 191360 | J9: 55514 | K9: 70189 | L9: 73065 | M9: 135063 | N9: 72425 | O9: 38078 | P9: 50039 | Q9: 47049
A10: Долгосрочные финансовые вложения | B10: 0 | C10: 0 | D10: 0 | E10: 172442 | F10: 96330 | G10: 22781 | H10: 37362 | I10: 0 | J10: 0 | K10: 0 | L10: 26722 | M10: 0 | N10: 0 | O10: 0
A11: Итого внеоборотные активы | B11: =SUM(B6:B10) -> 55506 | C11: =SUM(C6:C10) -> 1262188 | D11: =SUM(D6:D10) -> 3963762 | E11: =SUM(E6:E10) -> 5379083 | F11: =SUM(F6:F10) -> 5397152 | G11: =SUM(G6:G10) -> 7541044 | H11: =SUM(H6:H10) -> 9767673 | I11: =SUM(I6:I10) -> 10397113 | ... Q11: =SUM(Q6:Q10) -> 15037250
A13: Оборотные активы
A14: Запасы | B14: 81591 | C14: 25630 | D14: 330818 | E14: 430184 | F14: 472699 | G14: 520921 | H14: 844400 | I14: 894068 | J14: 1399401 | K14: 1457050 | L14: 1502787 | M14: 1915358 | N14: 1813876 | O14: 1683822 | P14: 1582730 | Q14: 1332791
A15: Торговая и прочая дебиторская задолженность | B15: 5878 | C15: 8745 | D15: 460258 | E15: 498218 | F15: 360336 | G15: 500951 | H15: 714020 | I15: 610829 | J15: 683992 | K15: 743119 | L15: 858919 | M15: 931871 | N15: 891611 | O15: 1036781 | P15: 511029 | Q15: 839002
A16: Денежные средства и их эквиваленты | B16: 37098 | C16: 29087 | D16: 392417 | E16: 499890 | F16: 784838 | G16: 2726478 | H16: 2021130 | I16: 5239436 | J16: 3161032 | K16: 1172651 | L16: 4395074 | M16: 3580665 | N16: 2451462 | O16: 959150 | P16: 673040 | Q16: 3867176
A17: Краткосрочные финансовые вложения | B17: 0 | C17: 0 | D17: 0 | E17: 0 | F17: 0 | G17: 158881 | H17: 225902 | I17: 2720990 | J17: 131151 | K17: 207779 | L17: 2244422 | M17: 180788 | N17: 185402 | O17: 2254869 | P17: 900000 | Q17: 226393
A18: Итого оборотные активы | B18: =SUM(B14:B17) -> 124567 | C18: =SUM(C14:C17) -> 63462 | D18: =SUM(D14:D17) -> 1183493 | E18: =SUM(E14:E17) -> 1428292 | F18: =SUM(F14:F17) -> 1617873 | G18: =SUM(G14:G17) -> 3907231 | H18: =SUM(H14:H17) -> 3805452 | I18: =SUM(I14:I17) -> 9465323 | ... Q18: =SUM(Q14:Q17) -> 6265362
A19: Итого активы | B19: =B11+B18 -> 180073 | C19: =C11+C18 -> 1325650 | D19: =D11+D18 -> 5147255 | E19: =E11+E18 -> 6807375 | F19: =F11+F18 -> 7015025 | G19: =G11+G18 -> 11448275 | H19: =H11+H18 -> 13573125 | I19: =I11+I18 -> 19862436 | ... Q19: =Q11+Q18 -> 21302612
A21: СОБСТВЕННЫЙ КАПИТАЛ
A22: Уставный капитал | B22: 10 | C22: 12 | D22: 14 | E22: 14 | F22: 1000 | G22: 1114 | H22: 1114 | I22: 1114 | J22: 1114 | K22: 1114 | L22: 1114 | M22: 1114 | N22: 1114 | O22: 1114 | P22: 1114 | Q22: 1114
A23: Добавочный капитал | B23: 0 | C23: 74732 | D23: 574730 | E23: 574730 | F23: 574744 | G23: 2680380 | H23: 2680380 | I23: 2680380 | J23: 2680380 | K23: 2680380 | L23: 2680380 | M23: 2680380 | N23: 2680380 | O23: 2680380 | P23: 2680380 | Q23: 2680380
A24: Собственные акции, выкупленные у акционеров | B24: 0 | C24: 0 | D24: 0 | E24: 0 | F24: 0 | G24: 0 | H24: 0 | I24: 0 | J24: -35986 | K24: -149250 | L24: -187180 | M24: -317603 | N24: -58238 | O24: -6481 | P24: -30783 | Q24: -31661
A25: Нераспределенная прибыль | B25: 21327 | C25: 134360 | D25: 1830786 | E25: 2178197 | F25: 2422546 | G25: 1621273 | H25: 2883796 | I25: 4710225 | J25: 2419765 | K25: 2678460 | L25: 5325641 | M25: 4170845 | N25: 2237354 | O25: 2950804 | P25: 1181876 | Q25: -583749
A26: Резерв по платежам, основанным на акциях | B26: 0 | C26: 0 | D26: 0 | E26: 0 | F26: 0 | G26: 574546 | H26: 574546 | I26: 574546 | J26: 574546 | K26: 574546 | L26: 574546 | M26: 786960 | N26: 568138 | O26: 574546 | P26: 716437 | Q26: 716437
A27: Резерв по инструментам хеджирования | B27: 0 | C27: 0 | D27: 0 | E27: 0 | F27: 0 | G27: 0 | H27: 0 | I27: 0 | J27: 0 | K27: -353673 | L27: -94441 | M27: -23924 | N27: -351764 | O27: -228638 | P27: - | Q27: -
A28: Резерв под пересчет в валюту представления | B28: 0 | C28: 0 | D28: 0 | E28: 0 | F28: -1310 | G28: -8166 | H28: 95845 | I28: 127257 | J28: 92944 | K28: 130508 | L28: 84175 | M28: -18598 | N28: -420073 | O28: -213381 | P28: -547733 | Q28: -463384
A29: Собственный капитал, причитающийся собственникам Компании | B29: =SUM(B22:B28) -> 21337 | C29: =SUM(C22:C28) -> 209104 | D29: =SUM(D22:D28) -> 2405530 | E29: =SUM(E22:E28) -> 2752941 | F29: =SUM(F22:F28) -> 2996980 | G29: =SUM(G22:G28) -> 4869147 | H29: =SUM(H22:H28) -> 6235681 | I29: =SUM(I22:I28) -> 8093522 | ... Q29: =SUM(Q22:Q28) -> 2319137
A30: Итого собственный капитал | B30: =SUM(B29) -> 21337 | C30: =SUM(C29) -> 209104 | D30: =SUM(D29) -> 2405530 | E30: =SUM(E29) -> 2752941 | F30: =SUM(F29) -> 2996980 | G30: =SUM(G29) -> 4869147 | H30: =SUM(H29) -> 6235681 | I30: =SUM(I29) -> 8093522 | ... Q30: =SUM(Q29) -> 2319137
A32: ОБЯЗАТЕЛЬСТВА
A33: Долгосрочные обязательства
A34: Кредиты и займы | B34: 0 | C34: 589472 | D34: 1471664 | E34: 3530841 | F34: 3482987 | G34: 4111952 | H34: 4387807 | I34: 7842556 | J34: 8512035 | K34: 4614531 | L34: 8222821 | M34: 8309933 | N34: 13108229 | O34: 9007782 | P34: 8918037 | Q34: 11125758
A35: Обязательства по аренде | B35: 0 | C35: 10022 | D35: 106454 | E35: 151796 | F35: 158191 | G35: 398162 | H35: 985792 | I35: 946521 | J35: 737178 | K35: 820520 | L35: 800944 | M35: 800236 | N35: 914213 | O35: 812344 | P35: 838316 | Q35: 781963
A36: Торговая и прочая кредиторская задолженность | B36: 0 | C36: 0 | D36: 0 | E36: 0 | F36: 0 | G36: 69213 | H36: 80210 | I36: 33486 | J36: 100989 | K36: 20752 | L36: 12732 | M36: 771 | N36: 330 | O36: 185 | P36: - | Q36: -
A37: Отложенные налоговые обязательства | B37: 0 | C37: 0 | D37: 0 | E37: 0 | F37: 0 | G37: 20520 | H37: 159322 | I37: 505630 | J37: 181761 | K37: 367810.54 | L37: 368747 | M37: 190047 | N37: 163636 | O37: 182675 | P37: 245652 | Q37: 249595
A38: Итого долгосрочные обязательства | B38: =SUM(B34:B37) -> 0 | C38: =SUM(C34:C37) -> 599494 | D38: =SUM(D34:D37) -> 1578118 | E38: =SUM(E34:E37) -> 3682637 | F38: =SUM(F34:F37) -> 3641178 | G38: =SUM(G34:G37) -> 4599847 | H38: =SUM(H34:H37) -> 5613131 | I38: =SUM(I34:I37) -> 9328193 | ... Q38: =SUM(Q34:Q37) -> 12157316
A40: Краткосрочные обязательства
A41: Кредиты и займы | B41: 0 | C41: 446523 | D41: 1037338 | E41: 55836 | F41: 90599 | G41: 1503541 | H41: 1040028 | I41: 1693624 | J41: 2192772 | K41: 5865933 | L41: 4536573 | M41: 4501472 | N41: 869843 | O41: 4513523 | P41: 4585532 | Q41: 5342390
A42: Обязательства по аренде | B42: 830 | C42: 5358 | D42: 66258 | E42: 93341 | F42: 89151 | G42: 223831 | H42: 236208 | I42: 215275 | J42: 190501 | K42: 235890 | L42: 222607 | M42: 239002 | N42: 413271 | O42: 298247 | P42: 350025 | Q42: 410212
A43: Торговая и прочая кредиторская задолженность | B43: 157906 | C43: 65171 | D43: 60011 | E43: 222620 | F43: 197117 | G43: 251909 | H43: 448077 | I43: 531822 | J43: 424948 | K43: 1090760 | L43: 996504 | M43: 598805 | N43: 1817706 | O43: 1140940 | P43: 708383 | Q43: 1073557
A44: Итого краткосрочные обязательства | B44: =SUM(B41:B43) -> 158736 | C44: =SUM(C41:C43) -> 517052 | D44: =SUM(D41:D43) -> 1163607 | E44: =SUM(E41:E43) -> 371797 | F44: =SUM(F41:F43) -> 376867 | G44: =SUM(G41:G43) -> 1979281 | H44: =SUM(H41:H43) -> 1724313 | I44: =SUM(I41:I43) -> 2440721 | ... Q44: =SUM(Q41:Q43) -> 6826159
...

Sheet 2. Income Statement (accum)
A1: Отчёт о прибыли или убытке и прочем совокупном доходе
A2: Назад к оглавлению
A3: тыс. руб., если не указано иное | B3: 12M 2019 | C3: 12M 2020 | D3: 6M 2021 | E3: 9M 2021 | F3: 12M 2021 | G3: 6M 2022 | H3: 9M 2022 | I3: 12M 2022 | J3: 6M 2023 | K3: 9M 2023 | L3: 12M 2023 | M3: 6M 2024 | N3: 9M 2024 | O3: 12M 2024 | P3: 6M 2025 | Q3: 9M 2025 | R3: 12М 2025 | S3: 6M 2026
A4: Выручка | B4: =SUM(B5:B7) -> 68777 | C4: =SUM(C5:C7) -> 855477 | D4: =SUM(D5:D7) -> 1965594 | E4: =SUM(E5:E7) -> 3702247 | F4: =SUM(F5:F7) -> 4128345 | G4: =SUM(G5:G7) -> 3196660 | H4: =SUM(H5:H7) -> 6294567 | I4: =SUM(I5:I7) -> 6960851 | ... R4: =SUM(R5:R7) -> 12458142 | S4: 5564227
A5: Шеринг | B5: 60127 | C5: 665307 | D5: 1845188 | E5: 3487383 | F5: 3890311 | G5: 2589850 | H5: 5438811 | I5: 6079707 | J5: 4236927 | K5: 9032230 | L5: 10233973 | M5: 5973481 | N5: 11869817 | O5: 13590932 | P5: 5088847 | Q5: 10138604 | R5: 11781364 | S5: 5380021
A6: Агентская выручка от страхования поездок | B6: 0 | C6: 59643 | D6: 120406 | E6: 214864 | F6: 238034 | G6: 141701 | H6: 278708 | I6: 304096 | J6: 199509 | K6: 443058 | L6: 490869 | M6: 322512 | N6: 632056 | O6: 704977 | P6: 273548 | Q6: 624183 | R6: 671455 | S6: 184206
A7: Реализация товаров | B7: 8650 | C7: 130527 | D7: 0 | E7: 0 | F7: 0 | G7: 465109 | H7: 577048 | I7: 577048 | J7: 68 | K7: 4624 | L7: 6373 | M7: 1561 | N7: 2914 | O7: 8392 | P7: 6443 | Q7: 2395 | R7: 5323 | S7: -
A8: Себестоимость продаж | B8: =SUM(B9:B21) -> -38752 | C8: =SUM(C9:C21) -> -447459 | D8: =SUM(D9:D21) -> -681297 | E8: =SUM(E9:E21) -> -1504830 | F8: =SUM(F9:F21) -> -1881773 | G8: =SUM(G9:G21) -> -2089484 | H8: =SUM(H9:H21) -> -3620078 | I8: =SUM(I9:I21) -> -4720618 | ... S8: =SUM(S9:S21) -> -4356366
A9: Амортизация | B9: -2282 | C9: -81349 | D9: -281734 | E9: -546300 | F9: -652901 | G9: -444240 | H9: -934161 | I9: -1081272 | J9: -744860 | K9: -1432119 | L9: -1710301 | M9: -1186800 | N9: -2285624 | O9: -2521985 | P9: -1300439 | Q9: -2404575 | R9: -2809142 | S9: -1325179
A10: Расходы на оплату труда | B10: -11079 | C10: -30641 | D10: -56662 | E10: -145844 | F10: -202300 | G10: -170380 | H10: -340686 | I10: -857754 | J10: -322724 | K10: -520439 | L10: -875988 | M10: -846988 | N10: -1230634 | O10: -1934143 | P10: -907599 | Q10: -1540415 | R10: -2020192.7 | S10: -654618
A11: Ремонт и техническое обслуживание | B11: -10128 | C11: -105969 | D11: -71483 | E11: -231378 | F11: -277034 | G11: -378801 | H11: -618615 | I11: -788560 | J11: -740321 | K11: -1410787 | L11: -1811478 | M11: -558769 | N11: -982568 | O11: -1370407 | P11: -1040839 | Q11: -1557724 | R11: -1897025.8 | S11: -985082
A12: Зарядка и перевозка самокатов | B12: -2454 | C12: -47124 | D12: -151352 | E12: -362270 | F12: -454295 | G12: -408668 | H12: -786147 | I12: -931178 | J12: -606024 | K12: -1229707 | L12: -1520888 | M12: -835243 | N12: -1637306 | O12: -2143634 | P12: -1022336 | Q12: -1890192 | R12: -2490166 | S12: -1010408
A13: Расходы по краткосрочной аренде и аренде с низкой стоимостью | B13: 0 | C13: 0 | D13: 0 | E13: 0 | F13: 0 | G13: 0 | H13: 0 | I13: -53264 | J13: -41590 | K13: 0 | L13: -147879 | M13: -131243 | N13: -238403 | O13: -328163 | P13: -131013 | Q13: -186960 | R13: -275299.04 | S13: -139130
A14: Услуги связи | B14: 0 | C14: 0 | D14: 0 | E14: 0 | F14: 0 | G14: 0 | H14: -74847 | I14: -117854 | J14: -115052 | K14: -219837 | L14: -307575 | M14: -142830 | N14: -246425 | O14: -308244 | P14: -120096 | Q14: -220352 | R14: -277446.84 | S14: -92505
A15: Техническая поддержка пользователей | B15: 0 | C15: -12469 | D15: -16526 | E15: -34762 | F15: -41376 | G15: -18050 | H15: -38176 | I15: -53113 | J15: -34244 | K15: -78325 | L15: -104353 | M15: -40573 | N15: -77585 | O15: -101607 | P15: -52436 | Q15: -84484 | R15: -96621 | S15: -35588
A16: Командировочные и представительские расходы | B16: 0 | C16: 0 | D16: 0 | E16: 0 | F16: 0 | G16: 0 | H16: -18318 | I16: -26267 | J16: -20573 | K16: -33868 | L16: -51724 | M16: -33910 | N16: -49142 | O16: -64476 | P16: -27106 | Q16: -31871 | R16: -36888 | S16: -13249
A17: Техническая поддержка программного обеспечения | B17: 0 | C17: -27053 | D17: -30762 | E17: -43419 | F17: -56264 | G17: -35498 | H17: -55487 | I17: -63285 | J17: -24171 | K17: -43728 | L17: -86991 | M17: -27844 | N17: -43298 | O17: -57994 | P17: -25179 | Q17: -38876 | R17: -49318 | S17: -17697
A18: Страховые премии | B18: 0 | C18: 0 | D18: 0 | E18: 0 | F18: 0 | G18: 0 | H18: 0 | I18: 0 | J18: 0 | K18: 0 | L18: -51813 | M18: -18497 | N18: 0 | O18: -68651 | P18: -12004 | Q18: 0 | R18: 0 | S18: -10723
A19: Ремонт помещения | B19: 0 | C19: 0 | D19: 0 | E19: 0 | F19: 0 | G19: 0 | H19: 0 | I19: 0 | J19: 0 | K19: 0 | L19: -36641 | M19: -17340 | N19: 0 | O19: -30398 | P19: -9370 | Q19: 0 | R19: 0 | S19: -5837
A20: Себестоимость проданных товаров | B20: -7762 | C20: -96016 | D20: 0 | E20: 0 | F20: 0 | G20: -495064 | H20: -626932 | I20: -627078 | J20: -26 | K20: -1418 | L20: -3806 | M20: -890 | N20: -5693 | O20: -8728 | P20: -3844 | Q20: -2475 | R20: -5920.3754 | S20: -
A21: Прочее | B21: -5047 | C21: -46838 | D21: -72778 | E21: -140857 | F21: -197603 | G21: -138783 | H21: -126709 | I21: -120993 | J21: -96097 | K21: -247885 | L21: -117188 | M21: -114003 | N21: -223346 | O21: -222428 | P21: -55826 | Q21: -317992 | R21: -205790 | S21: -66350
A22: Валовая прибыль | B22: =B4+B8 -> 30025 | C22: =C4+C8 -> 408018 | D22: =D4+D8 -> 1284297 | E22: =E4+E8 -> 2197417 | F22: =F4+F8 -> 2246572 | G22: =G4+G8 -> 1107176 | H22: =H4+H8 -> 2674489 | I22: =I4+I8 -> 2240233 | ... S22: =S4+S8 -> 1207861
A24: Коммерческие, общехозяйственные и административные расходы | B24: =SUM(B25:B35) -> -3970 | C24: =SUM(C25:C35) -> -61982 | D24: =SUM(D25:D35) -> -100534 | E24: =SUM(E25:E35) -> -223458 | F24: =SUM(F25:F35) -> -286699 | G24: =SUM(G25:G35) -> -205306 | H24: =SUM(H25:H35) -> -409510 | I24: =SUM(I25:I35) -> -860351 | ... S24: =SUM(S25:S35) -> -1124101
A25: Расходы на оплату труда | B25: 0 | C25: -16090 | D25: -18638 | E25: -45742 | F25: -65624 | G25: -56315 | H25: -118599 | I25: -329624 | J25: -110661 | K25: -190889 | L25: -338449 | M25: -268805 | N25: -414102 | O25: -709182 | P25: -443549 | Q25: -415460 | R25: -678936.06 | S25: -495370
A26: Банковский эквайринг | B26: 0 | C26: -19329 | D26: -49077 | E26: -99089 | F26: -114024 | G26: -74645 | H26: -160355 | I26: -193232 | J26: -150568 | K26: -321015 | L26: -364750 | M26: -163471 | N26: -297825 | O26: -331518 | P26: -104689 | Q26: -176726 | R26: -228991.39 | S26: -116768
A27: Юридические и консультационные услуги | B27: -1314 | C27: -5619 | D27: -9919 | E27: -12451 | F27: -22713 | G27: -20223 | H27: -28535 | I27: -193403 | J27: -24677 | K27: -78225 | L27: -120485 | M27: -93152 | N27: -117913 | O27: -157873 | P27: -50193 | Q27: -95102 | R27: -159370.78 | S27: -143172
A28: Маркетинг и реклама | B28: 0 | C28: 0 | D28: -1393 | E28: -28074 | F28: -30043 | G28: -2235 | H28: -10201 | I28: -16969 | J28: -15654 | K28: -86484 | L28: -109522 | M28: -44935 | N28: -119437 | O28: -135770 | P28: -40935 | Q28: -82760 | R28: -156240.36 | S28: -122691
A29: Программное обеспечение | B29: 0 | C29: 0 | D29: 0 | E29: 0 | F29: 0 | G29: 0 | H29: 0 | I29: 0 | J29: -9389 | K29: 0 | L29: -15372 | M29: -42253 | N29: -69675 | O29: -166017 | P29: -77442 | Q29: -108400 | R29: -85096 | S29: -37709
A30: Амортизация | B30: 0 | C30: -953 | D30: -5618 | E30: -14283 | F30: -14377 | G30: -17233 | H30: -26020 | I30: -35163 | J30: -11686 | K30: -55332 | L30: -72272 | M30: -39975 | N30: -61646 | O30: -81597 | P30: -43395 | Q30: -101292 | R30: -105617 | S30: -53336
A31: Командировочные и представительские расходы | B31: 0 | C31: 0 | D31: 0 | E31: 0 | F31: 0 | G31: 0 | H31: -8296 | I31: -16253 | J31: -9135 | K31: -11453 | L31: -28767 | M31: -23588 | N31: -30505 | O31: -45526 | P31: -11621 | Q31: -21894 | R31: -33274.997 | S31: -10433
A32: Расходы на банковское обслуживание | B32: -1571 | C32: -1955 | D32: 0 | E32: 0 | F32: -2337 | G32: -2550 | H32: -8003 | I32: -9993 | J32: -8677 | K32: -18546 | L32: -29863 | M32: -16155 | N32: -34446 | O32: -79501 | P32: -22098 | Q32: -29051 | R32: -32144.482 | S32: -10568
A33: Расходы по краткосрочной аренде и аренде с низкой стоимостью | B33: 0 | C33: -2221 | D33: -1832 | E33: -2408 | F33: -3206 | G33: -1349 | H33: -2050 | I33: -3136 | J33: -7704 | K33: -10493 | L33: -13879 | M33: -9382 | N33: -14429 | O33: -20667 | P33: -32692 | Q33: -43292 | R33: -103070.09 | S33: -41678
A34: Ремонт и техническое обслуживание | B34: -466 | C34: -6746 | D34: -9400 | E34: -14147 | F34: -17685 | G34: -11856 | H34: -17802 | I34: -21679 | J34: -499 | K34: -10747 | L34: -15411 | M34: -6523 | N34: -10522 | O34: -16703 | P34: -3455 | Q34: -6388 | R34: -8065.2988 | S34: -3128
A35: Прочее | B35: -619 | C35: -9069 | D35: -4657 | E35: -7264 | F35: -16690 | G35: -18900 | H35: -29649 | I35: -40899 | J35: -40961 | K35: -83155 | L35: -103185 | M35: -61477 | N35: -107223 | O35: -83901 | P35: -110945 | Q35: -111964 | R35: -182984 | S35: -89248
A36: Прочие операционные доходы | B36: =SUM(B37:B41) -> 22 | C36: =SUM(C37:C41) -> 1658 | D36: =SUM(D37:D41) -> 2357 | E36: =SUM(E37:E41) -> 2938 | F36: =SUM(F37:F41) -> 49512 | G36: =SUM(G37:G41) -> 12107 | H36: =SUM(H37:H41) -> 32526 | I36: =SUM(I37:I41) -> 58803 | ... M36: =SUM(M37:M41) -> 9801 | N36: 13856 | O36: =SUM(O37:O41) -> 24569 | P36: =SUM(P37:P41) -> 8995 | Q36: =SUM(Q37:Q41) -> 22688 | R36: =SUM(R37:R41) -> 24128.913 | S36: =SUM(S37:S41) -> 17400
A37: Государственные субсидии | B37: 0 | C37: 0 | D37: 0 | E37: 0 | F37: 35712 | G37: 0 | H37: 0 | I37: 22764 | J37: 5691 | K37: 8537 | L37: 11382 | M37: 5691 | O37: 11382 | P37: 0 | Q37: 0 | R37: 0 | S37: -
A38: Возмещение страховых взносов | B38: 0 | C38: 0 | D38: 0 | E38: 0 | F38: 0 | G38: 0 | H38: 0 | I38: 0 | J38: 13890 | K38: 13890 | L38: 15952 | M38: 1000 | O38: 1000 | P38: 0 | Q38: 0 | R38: 0 | S38: 0
A39: Прочее | B39: 22 | C39: 1658 | D39: 2357 | E39: 2938 | F39: 6604 | G39: 12107 | H39: 13335 | I39: 16154 | J39: 10127 | K39: 49025 | L39: 16676 | M39: 3110 | O39: 12187 | P39: 8995 | Q39: 22688 | R39: 24128.913 | S39: 17400
A40: Отрицательный гудвил | B40: 0 | C40: 0 | D40: 0 | E40: 0 | F40: 0 | G40: 0 | H40: 19191 | I40: 19885 | J40: 0 | K40: 0 | L40: 0 | M40: 0 | O40: 0 | P40: 0 | Q40: 0 | R40: 0 | S40: 0
A41: Прибыль от курсовой разницы по операционной деятельности | B41: 0 | C41: 0 | D41: 0 | E41: 0 | F41: 7196 | G41: 0 | H41: 0 | I41: 0 | J41: 0 | K41: 0 | L41: 0 | M41: 0 | O41: 0 | P41: 0 | Q41: 0 | R41: 0 | S41: 0
...

Sheet 3. Income Statement (period)
A1: Отчёт о прибыли или убытке и прочем совокупном доходе
A2: Назад к оглавлению
A3: тыс. руб., если не указано иное | B3: 2019 | C3: 2020 | D3: 1H'21 | E3: 3Q'21 | F3: 4Q'21 | G3: 2H'21 | H3: 1H'22 | I3: 3Q'22 | J3: 4Q'22 | K3: 2H'22 | L3: 1H'23 | M3: 3Q'23 | N3: 4Q'23 | O3: 2H'23 | P3: 1H'24 | Q3: 3Q'24 | R3: 4Q'24 | S3: 2H'24 | T3: 1H'25 | U3: 3Q'25 | V3: 4Q'25 | W3: 2H'25 | X3: 1H'26
A4: Выручка | B4: =SUM(B5:B7) -> 68777 | C4: =SUM(C5:C7) -> 855477 | D4: =SUM(D5:D7) -> 1965594 | E4: =SUM(E5:E7) -> 1736653 | F4: =SUM(F5:F7) -> 426098 | G4: =SUM(G5:G7) -> 2162751 | H4: =SUM(H5:H7) -> 3196660 | I4: =SUM(I5:I7) -> 3097907 | ... W4: =SUM(W5:W7) -> 7089304 | X4: ='2. Income Statement (accum)'!S4 -> 5564227
A5: Шеринг | B5: ='2. Income Statement (accum)'!B5 -> 60127 | C5: ='2. Income Statement (accum)'!C5 -> 665307 | D5: ='2. Income Statement (accum)'!D5 -> 1845188 | E5: ='2. Income Statement (accum)'!E5-'2. Income Statement (accum)'!D5 -> 1642195 | F5: ='2. Income Statement (accum)'!F5-'2. Income Statement (accum)'!E5 -> 402928 | G5: =F5+E5 -> 2045123 | H5: ='2. Income Statement (accum)'!G5 -> 2589850 | I5: ='2. Income Statement (accum)'!H5-'2. Income Statement (accum)'!G5 -> 2848961 | J5: ='2. Income Statement (accum)'!I5-'2. Income Statement (accum)'!H5 -> 640896 | K5: =J5+I5 -> 3489857 | L5: ='2. Income Statement (accum)'!J5 -> 4236927 | M5: ='2. Income Statement (accum)'!K5-'2. Income Statement (accum)'!J5 -> 4795303 | N5: ='2. Income Statement (accum)'!L5-'2. Income Statement (accum)'!K5 -> 1201743 | O5: =N5+M5 -> 5997046 | P5: ='2. Income Statement (accum)'!M5 -> 5973481 | Q5: ='2. Income Statement (accum)'!N5-'2. Income Statement (accum)'!M5 -> 5896336 | R5: ='2. Income Statement (accum)'!O5-'2. Income Statement (accum)'!N5 -> 1721115 | S5: =R5+Q5 -> 7617451 | T5: ='2. Income Statement (accum)'!P5 -> 5088847 | U5: ='2. Income Statement (accum)'!Q5-'2. Income Statement (accum)'!P5 -> 5049757 | V5: ='2. Income Statement (accum)'!R5-'2. Income Statement (accum)'!Q5 -> 1642760 | W5: =V5+U5 -> 6692517 | X5: ='2. Income Statement (accum)'!S5 -> 5380021
A6: Агентская выручка от страхования поездок | B6: ='2. Income Statement (accum)'!B6 -> 0 | C6: ='2. Income Statement (accum)'!C6 -> 59643 | D6: ='2. Income Statement (accum)'!D6 -> 120406 | E6: ='2. Income Statement (accum)'!E6-'2. Income Statement (accum)'!D6 -> 94458 | F6: ='2. Income Statement (accum)'!F6-'2. Income Statement (accum)'!E6 -> 23170 | G6: =F6+E6 -> 117628 | H6: ='2. Income Statement (accum)'!G6 -> 141701 | I6: ='2. Income Statement (accum)'!H6-'2. Income Statement (accum)'!G6 -> 137007 | J6: ='2. Income Statement (accum)'!I6-'2. Income Statement (accum)'!H6 -> 25388 | K6: =J6+I6 -> 162395 | L6: ='2. Income Statement (accum)'!J6 -> 199509 | M6: ='2. Income Statement (accum)'!K6-'2. Income Statement (accum)'!J6 -> 243549 | N6: ='2. Income Statement (accum)'!L6-'2. Income Statement (accum)'!K6 -> 47811 | O6: =N6+M6 -> 291360 | P6: ='2. Income Statement (accum)'!M6 -> 322512 | Q6: ='2. Income Statement (accum)'!N6-'2. Income Statement (accum)'!M6 -> 309544 | R6: ='2. Income Statement (accum)'!O6-'2. Income Statement (accum)'!N6 -> 72921 | S6: =R6+Q6 -> 382465 | T6: ='2. Income Statement (accum)'!P6 -> 273548 | U6: ='2. Income Statement (accum)'!Q6-'2. Income Statement (accum)'!P6 -> 350635 | V6: ='2. Income Statement (accum)'!R6-'2. Income Statement (accum)'!Q6 -> 47272 | W6: =V6+U6 -> 397907 | X6: ='2. Income Statement (accum)'!S6 -> 184206
A7: Реализация товаров | B7: ='2. Income Statement (accum)'!B7 -> 8650 | C7: ='2. Income Statement (accum)'!C7 -> 130527 | D7: ='2. Income Statement (accum)'!D7 -> 0 | E7: ='2. Income Statement (accum)'!E7-'2. Income Statement (accum)'!D7 -> 0 | F7: ='2. Income Statement (accum)'!F7-'2. Income Statement (accum)'!E7 -> 0 | G7: =F7+E7 -> 0 | H7: ='2. Income Statement (accum)'!G7 -> 465109 | I7: ='2. Income Statement (accum)'!H7-'2. Income Statement (accum)'!G7 -> 111939 | J7: ='2. Income Statement (accum)'!I7-'2. Income Statement (accum)'!H7 -> 0 | K7: =J7+I7 -> 111939 | L7: ='2. Income Statement (accum)'!J7 -> 68 | M7: ='2. Income Statement (accum)'!K7-'2. Income Statement (accum)'!J7 -> 4556 | N7: ='2. Income Statement (accum)'!L7-'2. Income Statement (accum)'!K7 -> 1749 | O7: =N7+M7 -> 6305 | P7: ='2. Income Statement (accum)'!M7 -> 1561 | Q7: ='2. Income Statement (accum)'!N7-'2. Income Statement (accum)'!M7 -> 1353 | R7: ='2. Income Statement (accum)'!O7-'2. Income Statement (accum)'!N7 -> 5478 | S7: =R7+Q7 -> 6831 | T7: ='2. Income Statement (accum)'!P7 -> 6443 | U7: ='2. Income Statement (accum)'!Q7-'2. Income Statement (accum)'!P7 -> -4048 | V7: ='2. Income Statement (accum)'!R7-'2. Income Statement (accum)'!Q7 -> 2928 | W7: =V7+U7 -> -1120 | X7: ='2. Income Statement (accum)'!S7 -> -
A8: Себестоимость продаж | B8: =SUM(B9:B21) -> -38752 | C8: =SUM(C9:C21) -> -447459 | D8: =SUM(D9:D21) -> -681297 | E8: =SUM(E9:E21) -> -823533 | F8: =SUM(F9:F21) -> -376943 | G8: =SUM(G9:G21) -> -1200476 | H8: =SUM(H9:H21) -> -2089484 | I8: =SUM(I9:I21) -> -1530594 | ... W8: =SUM(W9:W21) -> -5455722.8 | X8: ='2. Income Statement (accum)'!S8 -> -4356366
A9: Амортизация | B9: ='2. Income Statement (accum)'!B9 -> -2282 | C9: ='2. Income Statement (accum)'!C9 -> -81349 | D9: ='2. Income Statement (accum)'!D9 -> -281734 | E9: ='2. Income Statement (accum)'!E9-'2. Income Statement (accum)'!D9 -> -264566 | F9: ='2. Income Statement (accum)'!F9-'2. Income Statement (accum)'!E9 -> -106601 | G9: =F9+E9 -> -371167 | H9: ='2. Income Statement (accum)'!G9 -> -444240 | I9: ='2. Income Statement (accum)'!H9-'2. Income Statement (accum)'!G9 -> -489921 | J9: ='2. Income Statement (accum)'!I9-'2. Income Statement (accum)'!H9 -> -147111 | K9: =J9+I9 -> -637032 | L9: ='2. Income Statement (accum)'!J9 -> -744860 | M9: ='2. Income Statement (accum)'!K9-'2. Income Statement (accum)'!J9 -> -687259 | N9: ='2. Income Statement (accum)'!L9-'2. Income Statement (accum)'!K9 -> -278182 | O9: =N9+M9 -> -965441 | P9: ='2. Income Statement (accum)'!M9 -> -1186800 | Q9: ='2. Income Statement (accum)'!N9-'2. Income Statement (accum)'!M9 -> -1098824 | R9: ='2. Income Statement (accum)'!O9-'2. Income Statement (accum)'!N9 -> -236361 | S9: =Q9+R9 -> -1335185 | T9: ='2. Income Statement (accum)'!P9 -> -1300439 | U9: ='2. Income Statement (accum)'!Q9-'2. Income Statement (accum)'!P9 -> -1104136 | V9: ='2. Income Statement (accum)'!R9-'2. Income Statement (accum)'!Q9 -> -404567 | W9: =U9+V9 -> -1508703 | X9: ='2. Income Statement (accum)'!S9 -> -1325179
A10: Расходы на оплату труда | B10: ='2. Income Statement (accum)'!B10 -> -11079 | C10: ='2. Income Statement (accum)'!C10 -> -30641 | D10: ='2. Income Statement (accum)'!D10 -> -56662 | E10: ='2. Income Statement (accum)'!E10-'2. Income Statement (accum)'!D10 -> -89182 | F10: ='2. Income Statement (accum)'!F10-'2. Income Statement (accum)'!E10 -> -56456 | G10: =F10+E10 -> -145638 | H10: ='2. Income Statement (accum)'!G10 -> -170380 | I10: ='2. Income Statement (accum)'!H10-'2. Income Statement (accum)'!G10 -> -170306 | J10: ='2. Income Statement (accum)'!I10-'2. Income Statement (accum)'!H10 -> -517068 | K10: =J10+I10 -> -687374 | L10: ='2. Income Statement (accum)'!J10 -> -322724 | M10: ='2. Income Statement (accum)'!K10-'2. Income Statement (accum)'!J10 -> -197715 | N10: ='2. Income Statement (accum)'!L10-'2. Income Statement (accum)'!K10 -> -355549 | O10: =N10+M10 -> -553264 | P10: ='2. Income Statement (accum)'!M10 -> -846988 | Q10: ='2. Income Statement (accum)'!N10-'2. Income Statement (accum)'!M10 -> -383646 | R10: ='2. Income Statement (accum)'!O10-'2. Income Statement (accum)'!N10 -> -703509 | S10: =Q10+R10 -> -1087155 | T10: ='2. Income Statement (accum)'!P10 -> -907599 | U10: ='2. Income Statement (accum)'!Q10-'2. Income Statement (accum)'!P10 -> -632816 | V10: ='2. Income Statement (accum)'!R10-'2. Income Statement (accum)'!Q10 -> -479777.72 | W10: =U10+V10 -> -1112593.7 | X10: ='2. Income Statement (accum)'!S10 -> -654618
A11: Ремонт и техническое обслуживание | B11: ='2. Income Statement (accum)'!B11 -> -10128 | C11: ='2. Income Statement (accum)'!C11 -> -105969 | D11: ='2. Income Statement (accum)'!D11 -> -71483 | E11: ='2. Income Statement (accum)'!E11-'2. Income Statement (accum)'!D11 -> -159895 | F11: ='2. Income Statement (accum)'!F11-'2. Income Statement (accum)'!E11 -> -45656 | G11: =F11+E11 -> -205551 | H11: ='2. Income Statement (accum)'!G11 -> -378801 | I11: ='2. Income Statement (accum)'!H11-'2. Income Statement (accum)'!G11 -> -239814 | J11: ='2. Income Statement (accum)'!I11-'2. Income Statement (accum)'!H11 -> -169945 | K11: =J11+I11 -> -409759 | L11: ='2. Income Statement (accum)'!J11 -> -740321 | M11: ='2. Income Statement (accum)'!K11-'2. Income Statement (accum)'!J11 -> -670466 | N11: ='2. Income Statement (accum)'!L11-'2. Income Statement (accum)'!K11 -> -400691 | O11: =N11+M11 -> -1071157 | P11: ='2. Income Statement (accum)'!M11 -> -558769 | Q11: ='2. Income Statement (accum)'!N11-'2. Income Statement (accum)'!M11 -> -423799 | R11: ='2. Income Statement (accum)'!O11-'2. Income Statement (accum)'!N11 -> -387839 | S11: =Q11+R11 -> -811638 | T11: ='2. Income Statement (accum)'!P11 -> -1040839 | U11: ='2. Income Statement (accum)'!Q11-'2. Income Statement (accum)'!P11 -> -516885 | V11: ='2. Income Statement (accum)'!R11-'2. Income Statement (accum)'!Q11 -> -339301.78 | W11: =U11+V11 -> -856186.78 | X11: ='2. Income Statement (accum)'!S11 -> -985082
A12: Зарядка и перевозка самокатов | B12: ='2. Income Statement (accum)'!B12 -> -2454 | C12: ='2. Income Statement (accum)'!C12 -> -47124 | D12: ='2. Income Statement (accum)'!D12 -> -151352 | E12: ='2. Income Statement (accum)'!E12-'2. Income Statement (accum)'!D12 -> -210918 | F12: ='2. Income Statement (accum)'!F12-'2. Income Statement (accum)'!E12 -> -92025 | G12: =F12+E12 -> -302943 | H12: ='2. Income Statement (accum)'!G12 -> -408668 | I12: ='2. Income Statement (accum)'!H12-'2. Income Statement (accum)'!G12 -> -377479 | J12: ='2. Income Statement (accum)'!I12-'2. Income Statement (accum)'!H12 -> -145031 | K12: =J12+I12 -> -522510 | L12: ='2. Income Statement (accum)'!J12 -> -606024 | M12: ='2. Income Statement (accum)'!K12-'2. Income Statement (accum)'!J12 -> -623683 | N12: ='2. Income Statement (accum)'!L12-'2. Income Statement (accum)'!K12 -> -291181 | O12: =N12+M12 -> -914864 | P12: ='2. Income Statement (accum)'!M12 -> -835243 | Q12: ='2. Income Statement (accum)'!N12-'2. Income Statement (accum)'!M12 -> -802063 | R12: ='2. Income Statement (accum)'!O12-'2. Income Statement (accum)'!N12 -> -506328 | S12: =Q12+R12 -> -1308391 | T12: ='2. Income Statement (accum)'!P12 -> -1022336 | U12: ='2. Income Statement (accum)'!Q12-'2. Income Statement (accum)'!P12 -> -867856 | V12: ='2. Income Statement (accum)'!R12-'2. Income Statement (accum)'!Q12 -> -599974 | W12: =U12+V12 -> -1467830 | X12: ='2. Income Statement (accum)'!S12 -> -1010408
A13: Расходы по краткосрочной аренде и аренде с низкой стоимостью | B13: ='2. Income Statement (accum)'!B13 -> 0 | C13: ='2. Income Statement (accum)'!C13 -> 0 | D13: ='2. Income Statement (accum)'!D13 -> 0 | E13: ='2. Income Statement (accum)'!E13-'2. Income Statement (accum)'!D13 -> 0 | F13: ='2. Income Statement (accum)'!F13-'2. Income Statement (accum)'!E13 -> 0 | G13: =F13+E13 -> 0 | H13: ='2. Income Statement (accum)'!G13 -> 0 | I13: ='2. Income Statement (accum)'!H13-'2. Income Statement (accum)'!G13 -> 0 | J13: ='2. Income Statement (accum)'!I13-'2. Income Statement (accum)'!H13 -> -53264 | K13: =J13+I13 -> -53264 | L13: ='2. Income Statement (accum)'!J13 -> -41590 | M13: ='2. Income Statement (accum)'!K13-'2. Income Statement (accum)'!J13 -> 41590 | N13: ='2. Income Statement (accum)'!L13-'2. Income Statement (accum)'!K13 -> -147879 | O13: =N13+M13 -> -106289 | P13: ='2. Income Statement (accum)'!M13 -> -131243 | Q13: ='2. Income Statement (accum)'!N13-'2. Income Statement (accum)'!M13 -> -107160 | R13: ='2. Income Statement (accum)'!O13-'2. Income Statement (accum)'!N13 -> -89760 | S13: =Q13+R13 -> -196920 | T13: ='2. Income Statement (accum)'!P13 -> -131013 | U13: ='2. Income Statement (accum)'!Q13-'2. Income Statement (accum)'!P13 -> -55947 | V13: ='2. Income Statement (accum)'!R13-'2. Income Statement (accum)'!Q13 -> -88339.042 | W13: =U13+V13 -> -144286.04 | X13: ='2. Income Statement (accum)'!S13 -> -139130
A14: Услуги связи | B14: ='2. Income Statement (accum)'!B14 -> 0 | C14: ='2. Income Statement (accum)'!C14 -> 0 | D14: ='2. Income Statement (accum)'!D14 -> 0 | E14: ='2. Income Statement (accum)'!E14-'2. Income Statement (accum)'!D14 -> 0 | F14: ='2. Income Statement (accum)'!F14-'2. Income Statement (accum)'!E14 -> 0 | G14: =F14+E14 -> 0 | H14: ='2. Income Statement (accum)'!G14 -> 0 | I14: ='2. Income Statement (accum)'!H14-'2. Income Statement (accum)'!G14 -> -74847 | J14: ='2. Income Statement (accum)'!I14-'2. Income Statement (accum)'!H14 -> -43007 | K14: =J14+I14 -> -117854 | L14: ='2. Income Statement (accum)'!J14 -> -115052 | M14: ='2. Income Statement (accum)'!K14-'2. Income Statement (accum)'!J14 -> -104785 | N14: ='2. Income Statement (accum)'!L14-'2. Income Statement (accum)'!K14 -> -87738 | O14: =N14+M14 -> -192523 | P14: ='2. Income Statement (accum)'!M14 -> -142830 | Q14: ='2. Income Statement (accum)'!N14-'2. Income Statement (accum)'!M14 -> -103595 | R14: ='2. Income Statement (accum)'!O14-'2. Income Statement (accum)'!N14 -> -61819 | S14: =Q14+R14 -> -165414 | T14: ='2. Income Statement (accum)'!P14 -> -120096 | U14: ='2. Income Statement (accum)'!Q14-'2. Income Statement (accum)'!P14 -> -100256 | V14: ='2. Income Statement (accum)'!R14-'2. Income Statement (accum)'!Q14 -> -57094.84 | W14: =U14+V14 -> -157350.84 | X14: ='2. Income Statement (accum)'!S14 -> -92505
A15: Техническая поддержка пользователей | B15: ='2. Income Statement (accum)'!B15 -> 0 | C15: ='2. Income Statement (accum)'!C15 -> -12469 | D15: ='2. Income Statement (accum)'!D15 -> -16526 | E15: ='2. Income Statement (accum)'!E15-'2. Income Statement (accum)'!D15 -> -18236 | F15: ='2. Income Statement (accum)'!F15-'2. Income Statement (accum)'!E15 -> -6614 | G15: =F15+E15 -> -24850 | H15: ='2. Income Statement (accum)'!G15 -> -18050 | I15: ='2. Income Statement (accum)'!H15-'2. Income Statement (accum)'!G15 -> -20126 | J15: ='2. Income Statement (accum)'!I15-'2. Income Statement (accum)'!H15 -> -14937 | K15: =J15+I15 -> -35063 | L15: ='2. Income Statement (accum)'!J15 -> -34244 | M15: ='2. Income Statement (accum)'!K15-'2. Income Statement (accum)'!J15 -> -44081 | N15: ='2. Income Statement (accum)'!L15-'2. Income Statement (accum)'!K15 -> -26028 | O15: =N15+M15 -> -70109 | P15: ='2. Income Statement (accum)'!M15 -> -40573 | Q15: ='2. Income Statement (accum)'!N15-'2. Income Statement (accum)'!M15 -> -37012 | R15: ='2. Income Statement (accum)'!O15-'2. Income Statement (accum)'!N15 -> -24022 | S15: =Q15+R15 -> -61034 | T15: ='2. Income Statement (accum)'!P15 -> -52436 | U15: ='2. Income Statement (accum)'!Q15-'2. Income Statement (accum)'!P15 -> -32048 | V15: ='2. Income Statement (accum)'!R15-'2. Income Statement (accum)'!Q15 -> -12137 | W15: =U15+V15 -> -44185 | X15: ='2. Income Statement (accum)'!S15 -> -35588
A16: Командировочные и представительские расходы | B16: ='2. Income Statement (accum)'!B16 -> 0 | C16: ='2. Income Statement (accum)'!C16 -> 0 | D16: ='2. Income Statement (accum)'!D16 -> 0 | E16: ='2. Income Statement (accum)'!E16-'2. Income Statement (accum)'!D16 -> 0 | F16: ='2. Income Statement (accum)'!F16-'2. Income Statement (accum)'!E16 -> 0 | G16: =F16+E16 -> 0 | H16: ='2. Income Statement (accum)'!G16 -> 0 | I16: ='2. Income Statement (accum)'!H16-'2. Income Statement (accum)'!G16 -> -18318 | J16: ='2. Income Statement (accum)'!I16-'2. Income Statement (accum)'!H16 -> -7949 | K16: =J16+I16 -> -26267 | L16: ='2. Income Statement (accum)'!J16 -> -20573 | M16: ='2. Income Statement (accum)'!K16-'2. Income Statement (accum)'!J16 -> -13295 | N16: ='2. Income Statement (accum)'!L16-'2. Income Statement (accum)'!K16 -> -17856 | O16: =N16+M16 -> -31151 | P16: ='2. Income Statement (accum)'!M16 -> -33910 | Q16: ='2. Income Statement (accum)'!N16-'2. Income Statement (accum)'!M16 -> -15232 | R16: ='2. Income Statement (accum)'!O16-'2. Income Statement (accum)'!N16 -> -15334 | S16: =Q16+R16 -> -30566 | T16: ='2. Income Statement (accum)'!P16 -> -27106 | U16: ='2. Income Statement (accum)'!Q16-'2. Income Statement (accum)'!P16 -> -4765 | V16: ='2. Income Statement (accum)'!R16-'2. Income Statement (accum)'!Q16 -> -5017 | W16: =U16+V16 -> -9782 | X16: ='2. Income Statement (accum)'!S16 -> -13249
A17: Техническая поддержка программного обеспечения | B17: ='2. Income Statement (accum)'!B17 -> 0 | C17: ='2. Income Statement (accum)'!C17 -> -27053 | D17: ='2. Income Statement (accum)'!D17 -> -30762 | E17: ='2. Income Statement (accum)'!E17-'2. Income Statement (accum)'!D17 -> -12657 | F17: ='2. Income Statement (accum)'!F17-'2. Income Statement (accum)'!E17 -> -12845 | G17: =F17+E17 -> -25502 | H17: ='2. Income Statement (accum)'!G17 -> -35498 | I17: ='2. Income Statement (accum)'!H17-'2. Income Statement (accum)'!G17 -> -19989 | J17: ='2. Income Statement (accum)'!I17-'2. Income Statement (accum)'!H17 -> -7798 | K17: =J17+I17 -> -27787 | L17: ='2. Income Statement (accum)'!J17 -> -24171 | M17: ='2. Income Statement (accum)'!K17-'2. Income Statement (accum)'!J17 -> -19557 | N17: ='2. Income Statement (accum)'!L17-'2. Income Statement (accum)'!K17 -> -43263 | O17: =N17+M17 -> -62820 | P17: ='2. Income Statement (accum)'!M17 -> -27844 | Q17: ='2. Income Statement (accum)'!N17-'2. Income Statement (accum)'!M17 -> -15454 | R17: ='2. Income Statement (accum)'!O17-'2. Income Statement (accum)'!N17 -> -14696 | S17: =Q17+R17 -> -30150 | T17: ='2. Income Statement (accum)'!P17 -> -25179 | U17: ='2. Income Statement (accum)'!Q17-'2. Income Statement (accum)'!P17 -> -13697 | V17: ='2. Income Statement (accum)'!R17-'2. Income Statement (accum)'!Q17 -> -10442 | W17: =U17+V17 -> -24139 | X17: ='2. Income Statement (accum)'!S17 -> -17697
A18: Страховые премии | B18: ='2. Income Statement (accum)'!B18 -> 0 | C18: ='2. Income Statement (accum)'!C18 -> 0 | D18: ='2. Income Statement (accum)'!D18 -> 0 | E18: ='2. Income Statement (accum)'!E18-'2. Income Statement (accum)'!D18 -> 0 | F18: ='2. Income Statement (accum)'!F18-'2. Income Statement (accum)'!E18 -> 0 | G18: =F18+E18 -> 0 | H18: ='2. Income Statement (accum)'!G18 -> 0 | I18: ='2. Income Statement (accum)'!H18-'2. Income Statement (accum)'!G18 -> 0 | J18: ='2. Income Statement (accum)'!I18-'2. Income Statement (accum)'!H18 -> 0 | K18: =J18+I18 -> 0 | L18: ='2. Income Statement (accum)'!J18 -> 0 | M18: ='2. Income Statement (accum)'!K18-'2. Income Statement (accum)'!J18 -> 0 | N18: ='2. Income Statement (accum)'!L18-'2. Income Statement (accum)'!K18 -> -51813 | O18: =N18+M18 -> -51813 | P18: ='2. Income Statement (accum)'!M18 -> -18497 | Q18: ='2. Income Statement (accum)'!N18-'2. Income Statement (accum)'!M18 -> 18497 | R18: ='2. Income Statement (accum)'!O18-'2. Income Statement (accum)'!N18 -> -68651 | S18: =Q18+R18 -> -50154 | T18: ='2. Income Statement (accum)'!P18 -> -12004 | U18: ='2. Income Statement (accum)'!Q18-'2. Income Statement (accum)'!P18 -> 12004 | V18: ='2. Income Statement (accum)'!R18-'2. Income Statement (accum)'!Q18 -> 0 | W18: =U18+V18 -> 12004 | X18: ='2. Income Statement (accum)'!S18 -> -10723
A19: Ремонт помещения | B19: ='2. Income Statement (accum)'!B19 -> 0 | C19: ='2. Income Statement (accum)'!C19 -> 0 | D19: ='2. Income Statement (accum)'!D19 -> 0 | E19: ='2. Income Statement (accum)'!E19-'2. Income Statement (accum)'!D19 -> 0 | F19: ='2. Income Statement (accum)'!F19-'2. Income Statement (accum)'!E19 -> 0 | G19: =F19+E19 -> 0 | H19: ='2. Income Statement (accum)'!G19 -> 0 | I19: ='2. Income Statement (accum)'!H19-'2. Income Statement (accum)'!G19 -> 0 | J19: ='2. Income Statement (accum)'!I19-'2. Income Statement (accum)'!H19 -> 0 | K19: =J19+I19 -> 0 | L19: ='2. Income Statement (accum)'!J19 -> 0 | M19: ='2. Income Statement (accum)'!K19-'2. Income Statement (accum)'!J19 -> 0 | N19: ='2. Income Statement (accum)'!L19-'2. Income Statement (accum)'!K19 -> -36641 | O19: =N19+M19 -> -36641 | P19: ='2. Income Statement (accum)'!M19 -> -17340 | Q19: ='2. Income Statement (accum)'!N19-'2. Income Statement (accum)'!M19 -> 17340 | R19: ='2. Income Statement (accum)'!O19-'2. Income Statement (accum)'!N19 -> -30398 | S19: =Q19+R19 -> -13058 | T19: ='2. Income Statement (accum)'!P19 -> -9370 | U19: ='2. Income Statement (accum)'!Q19-'2. Income Statement (accum)'!P19 -> 9370 | V19: ='2. Income Statement (accum)'!R19-'2. Income Statement (accum)'!Q19 -> 0 | W19: =U19+V19 -> 9370 | X19: ='2. Income Statement (accum)'!S19 -> -5837
A20: Себестоимость проданных товаров | B20: ='2. Income Statement (accum)'!B20 -> -7762 | C20: ='2. Income Statement (accum)'!C20 -> -96016 | D20: ='2. Income Statement (accum)'!D20 -> 0 | E20: ='2. Income Statement (accum)'!E20-'2. Income Statement (accum)'!D20 -> 0 | F20: ='2. Income Statement (accum)'!F20-'2. Income Statement (accum)'!E20 -> 0 | G20: =F20+E20 -> 0 | H20: ='2. Income Statement (accum)'!G20 -> -495064 | I20: ='2. Income Statement (accum)'!H20-'2. Income Statement (accum)'!G20 -> -131868 | J20: ='2. Income Statement (accum)'!I20-'2. Income Statement (accum)'!H20 -> -146 | K20: =J20+I20 -> -132014 | L20: ='2. Income Statement (accum)'!J20 -> -26 | M20: ='2. Income Statement (accum)'!K20-'2. Income Statement (accum)'!J20 -> -1392 | N20: ='2. Income Statement (accum)'!L20-'2. Income Statement (accum)'!K20 -> -2388 | O20: =N20+M20 -> -3780 | P20: ='2. Income Statement (accum)'!M20 -> -890 | Q20: ='2. Income Statement (accum)'!N20-'2. Income Statement (accum)'!M20 -> -4803 | R20: ='2. Income Statement (accum)'!O20-'2. Income Statement (accum)'!N20 -> -3035 | S20: =Q20+R20 -> -7838 | T20: ='2. Income Statement (accum)'!P20 -> -3844 | U20: ='2. Income Statement (accum)'!Q20-'2. Income Statement (accum)'!P20 -> 1369 | V20: ='2. Income Statement (accum)'!R20-'2. Income Statement (accum)'!Q20 -> -3445.3754 | W20: =U20+V20 -> -2076.3754 | X20: ='2. Income Statement (accum)'!S20 -> -
A21: Прочее | B21: ='2. Income Statement (accum)'!B21 -> -5047 | C21: ='2. Income Statement (accum)'!C21 -> -46838 | D21: ='2. Income Statement (accum)'!D21 -> -72778 | E21: ='2. Income Statement (accum)'!E21-'2. Income Statement (accum)'!D21 -> -68079 | F21: ='2. Income Statement (accum)'!F21-'2. Income Statement (accum)'!E21 -> -56746 | G21: =F21+E21 -> -124825 | H21: ='2. Income Statement (accum)'!G21 -> -138783 | I21: ='2. Income Statement (accum)'!H21-'2. Income Statement (accum)'!G21 -> 12074 | J21: ='2. Income Statement (accum)'!I21-'2. Income Statement (accum)'!H21 -> 5716 | K21: =J21+I21 -> 17790 | L21: ='2. Income Statement (accum)'!J21 -> -96097 | M21: ='2. Income Statement (accum)'!K21-'2. Income Statement (accum)'!J21 -> -151788 | N21: ='2. Income Statement (accum)'!L21-'2. Income Statement (accum)'!K21 -> 130697 | O21: =N21+M21 -> -21091 | P21: ='2. Income Statement (accum)'!M21 -> -114003 | Q21: ='2. Income Statement (accum)'!N21-'2. Income Statement (accum)'!M21 -> -109343 | R21: ='2. Income Statement (accum)'!O21-'2. Income Statement (accum)'!N21 -> 918 | S21: =Q21+R21 -> -108425 | T21: ='2. Income Statement (accum)'!P21 -> -55826 | U21: ='2. Income Statement (accum)'!Q21-'2. Income Statement (accum)'!P21 -> -262166 | V21: ='2. Income Statement (accum)'!R21-'2. Income Statement (accum)'!Q21 -> 112202 | W21: =U21+V21 -> -149964 | X21: ='2. Income Statement (accum)'!S21 -> -66350
A22: Валовая прибыль | B22: =B4+B8 -> 30025 | C22: =C4+C8 -> 408018 | D22: =D4+D8 -> 1284297 | E22: =E4+E8 -> 913120 | F22: =F4+F8 -> 49155 | G22: =G4+G8 -> 962275 | H22: =H4+H8 -> 1107176 | I22: =I4+I8 -> 1567313 | ... W22: =W4+W8 -> 1633581.2 | X22: ='2. Income Statement (accum)'!S22 -> 1207861
A24: Коммерческие, общехозяйственные и административные расходы | B24: =SUM(B25:B35) -> -3970 | C24: =SUM(C25:C35) -> -61982 | D24: =SUM(D25:D35) -> -100534 | E24: =SUM(E25:E35) -> -122924 | F24: =SUM(F25:F35) -> -63241 | G24: =SUM(G25:G35) -> -186165 | H24: =SUM(H25:H35) -> -205306 | I24: =SUM(I25:I35) -> -204204 | ... W24: =SUM(W25:W35) -> -832776.46 | X24: ='2. Income Statement (accum)'!S24 -> -1124101
A25: Расходы на оплату труда | B25: ='2. Income Statement (accum)'!B25 -> 0 | C25: ='2. Income Statement (accum)'!C25 -> -16090 | D25: ='2. Income Statement (accum)'!D25 -> -18638 | E25: ='2. Income Statement (accum)'!E25-'2. Income Statement (accum)'!D25 -> -27104 | F25: ='2. Income Statement (accum)'!F25-'2. Income Statement (accum)'!E25 -> -19882 | G25: =F25+E25 -> -46986 | H25: ='2. Income Statement (accum)'!G25 -> -56315 | I25: ='2. Income Statement (accum)'!H25-'2. Income Statement (accum)'!G25 -> -62284 | J25: ='2. Income Statement (accum)'!I25-'2. Income Statement (accum)'!H25 -> -211025 | K25: =J25+I25 -> -273309 | L25: ='2. Income Statement (accum)'!J25 -> -110661 | M25: ='2. Income Statement (accum)'!K25-'2. Income Statement (accum)'!J25 -> -80228 | N25: ='2. Income Statement (accum)'!L25-'2. Income Statement (accum)'!K25 -> -147560 | O25: =N25+M25 -> -227788 | P25: ='2. Income Statement (accum)'!M25 -> -268805 | Q25: ='2. Income Statement (accum)'!N25-'2. Income Statement (accum)'!M25 -> -145297 | R25: ='2. Income Statement (accum)'!O25-'2. Income Statement (accum)'!N25 -> -295080 | S25: =Q25+R25 -> -440377 | T25: ='2. Income Statement (accum)'!P25 -> -443549 | U25: ='2. Income Statement (accum)'!Q25-'2. Income Statement (accum)'!P25 -> 28089 | V25: ='2. Income Statement (accum)'!R25-'2. Income Statement (accum)'!Q25 -> -263476.06 | W25: =U25+V25 -> -235387.06 | X25: ='2. Income Statement (accum)'!S25 -> -495370
A26: Банковский эквайринг | B26: ='2. Income Statement (accum)'!B26 -> 0 | C26: ='2. Income Statement (accum)'!C26 -> -19329 | D26: ='2. Income Statement (accum)'!D26 -> -49077 | E26: ='2. Income Statement (accum)'!E26-'2. Income Statement (accum)'!D26 -> -50012 | F26: ='2. Income Statement (accum)'!F26-'2. Income Statement (accum)'!E26 -> -14935 | G26: =F26+E26 -> -64947 | H26: ='2. Income Statement (accum)'!G26 -> -74645 | I26: ='2. Income Statement (accum)'!H26-'2. Income Statement (accum)'!G26 -> -85710 | J26: ='2. Income Statement (accum)'!I26-'2. Income Statement (accum)'!H26 -> -32877 | K26: =J26+I26 -> -118587 | L26: ='2. Income Statement (accum)'!J26 -> -150568 | M26: ='2. Income Statement (accum)'!K26-'2. Income Statement (accum)'!J26 -> -170447 | N26: ='2. Income Statement (accum)'!L26-'2. Income Statement (accum)'!K26 -> -43735 | O26: =N26+M26 -> -214182 | P26: ='2. Income Statement (accum)'!M26 -> -163471 | Q26: ='2. Income Statement (accum)'!N26-'2. Income Statement (accum)'!M26 -> -134354 | R26: ='2. Income Statement (accum)'!O26-'2. Income Statement (accum)'!N26 -> -33693 | S26: =Q26+R26 -> -168047 | T26: ='2. Income Statement (accum)'!P26 -> -104689 | U26: ='2. Income Statement (accum)'!Q26-'2. Income Statement (accum)'!P26 -> -72037 | V26: ='2. Income Statement (accum)'!R26-'2. Income Statement (accum)'!Q26 -> -52265.389 | W26: =U26+V26 -> -124302.39 | X26: ='2. Income Statement (accum)'!S26 -> -116768
A27: Юридические и консультационные услуги | B27: ='2. Income Statement (accum)'!B27 -> -1314 | C27: ='2. Income Statement (accum)'!C27 -> -5619 | D27: ='2. Income Statement (accum)'!D27 -> -9919 | E27: ='2. Income Statement (accum)'!E27-'2. Income Statement (accum)'!D27 -> -2532 | F27: ='2. Income Statement (accum)'!F27-'2. Income Statement (accum)'!E27 -> -10262 | G27: =F27+E27 -> -12794 | H27: ='2. Income Statement (accum)'!G27 -> -20223 | I27: ='2. Income Statement (accum)'!H27-'2. Income Statement (accum)'!G27 -> -8312 | J27: ='2. Income Statement (accum)'!I27-'2. Income Statement (accum)'!H27 -> -164868 | K27: =J27+I27 -> -173180 | L27: ='2. Income Statement (accum)'!J27 -> -24677 | M27: ='2. Income Statement (accum)'!K27-'2. Income Statement (accum)'!J27 -> -53548 | N27: ='2. Income Statement (accum)'!L27-'2. Income Statement (accum)'!K27 -> -42260 | O27: =N27+M27 -> -95808 | P27: ='2. Income Statement (accum)'!M27 -> -93152 | Q27: ='2. Income Statement (accum)'!N27-'2. Income Statement (accum)'!M27 -> -24761 | R27: ='2. Income Statement (accum)'!O27-'2. Income Statement (accum)'!N27 -> -39960 | S27: =Q27+R27 -> -64721 | T27: ='2. Income Statement (accum)'!P27 -> -50193 | U27: ='2. Income Statement (accum)'!Q27-'2. Income Statement (accum)'!P27 -> -44909 | V27: ='2. Income Statement (accum)'!R27-'2. Income Statement (accum)'!Q27 -> -64268.779 | W27: =U27+V27 -> -109177.78 | X27: ='2. Income Statement (accum)'!S27 -> -143172
A28: Маркетинг и реклама | B28: ='2. Income Statement (accum)'!B28 -> 0 | C28: ='2. Income Statement (accum)'!C28 -> 0 | D28: ='2. Income Statement (accum)'!D28 -> -1393 | E28: ='2. Income Statement (accum)'!E28-'2. Income Statement (accum)'!D28 -> -26681 | F28: ='2. Income Statement (accum)'!F28-'2. Income Statement (accum)'!E28 -> -1969 | G28: =F28+E28 -> -28650 | H28: ='2. Income Statement (accum)'!G28 -> -2235 | I28: ='2. Income Statement (accum)'!H28-'2. Income Statement (accum)'!G28 -> -7966 | J28: ='2. Income Statement (accum)'!I28-'2. Income Statement (accum)'!H28 -> -6768 | K28: =J28+I28 -> -14734 | L28: ='2. Income Statement (accum)'!J28 -> -15654 | M28: ='2. Income Statement (accum)'!K28-'2. Income Statement (accum)'!J28 -> -70830 | N28: ='2. Income Statement (accum)'!L28-'2. Income Statement (accum)'!K28 -> -23038 | O28: =N28+M28 -> -93868 | P28: ='2. Income Statement (accum)'!M28 -> -44935 | Q28: ='2. Income Statement (accum)'!N28-'2. Income Statement (accum)'!M28 -> -74502 | R28: ='2. Income Statement (accum)'!O28-'2. Income Statement (accum)'!N28 -> -16333 | S28: =Q28+R28 -> -90835 | T28: ='2. Income Statement (accum)'!P28 -> -40935 | U28: ='2. Income Statement (accum)'!Q28-'2. Income Statement (accum)'!P28 -> -41825 | V28: ='2. Income Statement (accum)'!R28-'2. Income Statement (accum)'!Q28 -> -73480.357 | W28: =U28+V28 -> -115305.36 | X28: ='2. Income Statement (accum)'!S28 -> -122691
A29: Программное обеспечение | B29: ='2. Income Statement (accum)'!B29 -> 0 | C29: ='2. Income Statement (accum)'!C29 -> 0 | D29: ='2. Income Statement (accum)'!D29 -> 0 | E29: ='2. Income Statement (accum)'!E29-'2. Income Statement (accum)'!D29 -> 0 | F29: ='2. Income Statement (accum)'!F29-'2. Income Statement (accum)'!E29 -> 0 | G29: =F29+E29 -> 0 | H29: ='2. Income Statement (accum)'!G29 -> 0 | I29: ='2. Income Statement (accum)'!H29-'2. Income Statement (accum)'!G29 -> 0 | J29: ='2. Income Statement (accum)'!I29-'2. Income Statement (accum)'!H29 -> 0 | K29: =J29+I29 -> 0 | L29: ='2. Income Statement (accum)'!J29 -> -9389 | M29: ='2. Income Statement (accum)'!K29-'2. Income Statement (accum)'!J29 -> 9389 | N29: ='2. Income Statement (accum)'!L29-'2. Income Statement (accum)'!K29 -> -15372 | O29: =N29+M29 -> -5983 | P29: ='2. Income Statement (accum)'!M29 -> -42253 | Q29: ='2. Income Statement (accum)'!N29-'2. Income Statement (accum)'!M29 -> -27422 | R29: ='2. Income Statement (accum)'!O29-'2. Income Statement (accum)'!N29 -> -96342 | S29: =Q29+R29 -> -123764 | T29: ='2. Income Statement (accum)'!P29 -> -77442 | U29: ='2. Income Statement (accum)'!Q29-'2. Income Statement (accum)'!P29 -> -30958 | V29: ='2. Income Statement (accum)'!R29-'2. Income Statement (accum)'!Q29 -> 23304 | W29: =U29+V29 -> -7654 | X29: ='2. Income Statement (accum)'!S29 -> -37709
A30: Амортизация | B30: ='2. Income Statement (accum)'!B30 -> 0 | C30: ='2. Income Statement (accum)'!C30 -> -953 | D30: ='2. Income Statement (accum)'!D30 -> -5618 | E30: ='2. Income Statement (accum)'!E30-'2. Income Statement (accum)'!D30 -> -8665 | F30: ='2. Income Statement (accum)'!F30-'2. Income Statement (accum)'!E30 -> -94 | G30: =F30+E30 -> -8759 | H30: ='2. Income Statement (accum)'!G30 -> -17233 | I30: ='2. Income Statement (accum)'!H30-'2. Income Statement (accum)'!G30 -> -8787 | J30: ='2. Income Statement (accum)'!I30-'2. Income Statement (accum)'!H30 -> -9143 | K30: =J30+I30 -> -17930 | L30: ='2. Income Statement (accum)'!J30 -> -11686 | M30: ='2. Income Statement (accum)'!K30-'2. Income Statement (accum)'!J30 -> -43646 | N30: ='2. Income Statement (accum)'!L30-'2. Income Statement (accum)'!K30 -> -16940 | O30: =N30+M30 -> -60586 | P30: ='2. Income Statement (accum)'!M30 -> -39975 | Q30: ='2. Income Statement (accum)'!N30-'2. Income Statement (accum)'!M30 -> -21671 | R30: ='2. Income Statement (accum)'!O30-'2. Income Statement (accum)'!N30 -> -19951 | S30: =Q30+R30 -> -41622 | T30: ='2. Income Statement (accum)'!P30 -> -43395 | U30: ='2. Income Statement (accum)'!Q30-'2. Income Statement (accum)'!P30 -> -57897 | V30: ='2. Income Statement (accum)'!R30-'2. Income Statement (accum)'!Q30 -> -4325 | W30: =U30+V30 -> -62222 | X30: ='2. Income Statement (accum)'!S30 -> -53336
A31: Командировочные и представительские расходы | B31: ='2. Income Statement (accum)'!B31 -> 0 | C31: ='2. Income Statement (accum)'!C31 -> 0 | D31: ='2. Income Statement (accum)'!D31 -> 0 | E31: ='2. Income Statement (accum)'!E31-'2. Income Statement (accum)'!D31 -> 0 | F31: ='2. Income Statement (accum)'!F31-'2. Income Statement (accum)'!E31 -> 0 | G31: =F31+E31 -> 0 | H31: ='2. Income Statement (accum)'!G31 -> 0 | I31: ='2. Income Statement (accum)'!H31-'2. Income Statement (accum)'!G31 -> -8296 | J31: ='2. Income Statement (accum)'!I31-'2. Income Statement (accum)'!H31 -> -7957 | K31: =J31+I31 -> -16253 | L31: ='2. Income Statement (accum)'!J31 -> -9135 | M31: ='2. Income Statement (accum)'!K31-'2. Income Statement (accum)'!J31 -> -2318 | N31: ='2. Income Statement (accum)'!L31-'2. Income Statement (accum)'!K31 -> -17314 | O31: =N31+M31 -> -19632 | P31: ='2. Income Statement (accum)'!M31 -> -23588 | Q31: ='2. Income Statement (accum)'!N31-'2. Income Statement (accum)'!M31 -> -6917 | R31: ='2. Income Statement (accum)'!O31-'2. Income Statement (accum)'!N31 -> -15021 | S31: =Q31+R31 -> -21938 | T31: ='2. Income Statement (accum)'!P31 -> -11621 | U31: ='2. Income Statement (accum)'!Q31-'2. Income Statement (accum)'!P31 -> -10273 | V31: ='2. Income Statement (accum)'!R31-'2. Income Statement (accum)'!Q31 -> -11380.997 | W31: =U31+V31 -> -21653.997 | X31: ='2. Income Statement (accum)'!S31 -> -10433
A32: Расходы на банковское обслуживание | B32: ='2. Income Statement (accum)'!B32 -> -1571 | C32: ='2. Income Statement (accum)'!C32 -> -1955 | D32: ='2. Income Statement (accum)'!D32 -> 0 | E32: ='2. Income Statement (accum)'!E32-'2. Income Statement (accum)'!D32 -> 0 | F32: ='2. Income Statement (accum)'!F32-'2. Income Statement (accum)'!E32 -> -2337 | G32: =F32+E32 -> -2337 | H32: ='2. Income Statement (accum)'!G32 -> -2550 | I32: ='2. Income Statement (accum)'!H32-'2. Income Statement (accum)'!G32 -> -5453 | J32: ='2. Income Statement (accum)'!I32-'2. Income Statement (accum)'!H32 -> -1990 | K32: =J32+I32 -> -7443 | L32: ='2. Income Statement (accum)'!J32 -> -8677 | M32: ='2. Income Statement (accum)'!K32-'2. Income Statement (accum)'!J32 -> -9869 | N32: ='2. Income Statement (accum)'!L32-'2. Income Statement (accum)'!K32 -> -11317 | O32: =N32+M32 -> -21186 | P32: ='2. Income Statement (accum)'!M32 -> -16155 | Q32: ='2. Income Statement (accum)'!N32-'2. Income Statement (accum)'!M32 -> -18291 | R32: ='2. Income Statement (accum)'!O32-'2. Income Statement (accum)'!N32 -> -45055 | S32: =Q32+R32 -> -63346 | T32: ='2. Income Statement (accum)'!P32 -> -22098 | U32: ='2. Income Statement (accum)'!Q32-'2. Income Statement (accum)'!P32 -> -6953 | V32: ='2. Income Statement (accum)'!R32-'2. Income Statement (accum)'!Q32 -> -3093.4825 | W32: =U32+V32 -> -10046.482 | X32: ='2. Income Statement (accum)'!S32 -> -10568
A33: Расходы по краткосрочной аренде и аренде с низкой стоимостью | B33: ='2. Income Statement (accum)'!B33 -> 0 | C33: ='2. Income Statement (accum)'!C33 -> -2221 | D33: ='2. Income Statement (accum)'!D33 -> -1832 | E33: ='2. Income Statement (accum)'!E33-'2. Income Statement (accum)'!D33 -> -576 | F33: ='2. Income Statement (accum)'!F33-'2. Income Statement (accum)'!E33 -> -798 | G33: =F33+E33 -> -1374 | H33: ='2. Income Statement (accum)'!G33 -> -1349 | I33: ='2. Income Statement (accum)'!H33-'2. Income Statement (accum)'!G33 -> -701 | J33: ='2. Income Statement (accum)'!I33-'2. Income Statement (accum)'!H33 -> -1086 | K33: =J33+I33 -> -1787 | L33: ='2. Income Statement (accum)'!J33 -> -7704 | M33: ='2. Income Statement (accum)'!K33-'2. Income Statement (accum)'!J33 -> -2789 | N33: ='2. Income Statement (accum)'!L33-'2. Income Statement (accum)'!K33 -> -3386 | O33: =N33+M33 -> -6175 | P33: ='2. Income Statement (accum)'!M33 -> -9382 | Q33: ='2. Income Statement (accum)'!N33-'2. Income Statement (accum)'!M33 -> -5047 | R33: ='2. Income Statement (accum)'!O33-'2. Income Statement (accum)'!N33 -> -6238 | S33: =Q33+R33 -> -11285 | T33: ='2. Income Statement (accum)'!P33 -> -32692 | U33: ='2. Income Statement (accum)'!Q33-'2. Income Statement (accum)'!P33 -> -10600 | V33: ='2. Income Statement (accum)'!R33-'2. Income Statement (accum)'!Q33 -> -59778.093 | W33: =U33+V33 -> -70378.093 | X33: ='2. Income Statement (accum)'!S33 -> -41678
A34: Ремонт и техническое обслуживание | B34: ='2. Income Statement (accum)'!B34 -> -466 | C34: ='2. Income Statement (accum)'!C34 -> -6746 | D34: ='2. Income Statement (accum)'!D34 -> -9400 | E34: ='2. Income Statement (accum)'!E34-'2. Income Statement (accum)'!D34 -> -4747 | F34: ='2. Income Statement (accum)'!F34-'2. Income Statement (accum)'!E34 -> -3538 | G34: =F34+E34 -> -8285 | H34: ='2. Income Statement (accum)'!G34 -> -11856 | I34: ='2. Income Statement (accum)'!H34-'2. Income Statement (accum)'!G34 -> -5946 | J34: ='2. Income Statement (accum)'!I34-'2. Income Statement (accum)'!H34 -> -3877 | K34: =J34+I34 -> -9823 | L34: ='2. Income Statement (accum)'!J34 -> -499 | M34: ='2. Income Statement (accum)'!K34-'2. Income Statement (accum)'!J34 -> -10248 | N34: ='2. Income Statement (accum)'!L34-'2. Income Statement (accum)'!K34 -> -4664 | O34: =N34+M34 -> -14912 | P34: ='2. Income Statement (accum)'!M34 -> -6523 | Q34: ='2. Income Statement (accum)'!N34-'2. Income Statement (accum)'!M34 -> -3999 | R34: ='2. Income Statement (accum)'!O34-'2. Income Statement (accum)'!N34 -> -6181 | S34: =Q34+R34 -> -10180 | T34: ='2. Income Statement (accum)'!P34 -> -3455 | U34: ='2. Income Statement (accum)'!Q34-'2. Income Statement (accum)'!P34 -> -2933 | V34: ='2. Income Statement (accum)'!R34-'2. Income Statement (accum)'!Q34 -> -1677.2988 | W34: =U34+V34 -> -4610.2988 | X34: ='2. Income Statement (accum)'!S34 -> -3128
A35: Прочее | B35: ='2. Income Statement (accum)'!B35 -> -619 | C35: ='2. Income Statement (accum)'!C35 -> -9069 | D35: ='2. Income Statement (accum)'!D35 -> -4657 | E35: ='2. Income Statement (accum)'!E35-'2. Income Statement (accum)'!D35 -> -2607 | F35: ='2. Income Statement (accum)'!F35-'2. Income Statement (accum)'!E35 -> -9426 | G35: =F35+E35 -> -12033 | H35: ='2. Income Statement (accum)'!G35 -> -18900 | I35: ='2. Income Statement (accum)'!H35-'2. Income Statement (accum)'!G35 -> -10749 | J35: ='2. Income Statement (accum)'!I35-'2. Income Statement (accum)'!H35 -> -11250 | K35: =J35+I35 -> -21999 | L35: ='2. Income Statement (accum)'!J35 -> -40961 | M35: ='2. Income Statement (accum)'!K35-'2. Income Statement (accum)'!J35 -> -42194 | N35: ='2. Income Statement (accum)'!L35-'2. Income Statement (accum)'!K35 -> -20030 | O35: =N35+M35 -> -62224 | P35: ='2. Income Statement (accum)'!M35 -> -61477 | Q35: ='2. Income Statement (accum)'!N35-'2. Income Statement (accum)'!M35 -> -45746 | R35: ='2. Income Statement (accum)'!O35-'2. Income Statement (accum)'!N35 -> 23322 | S35: =Q35+R35 -> -22424 | T35: ='2. Income Statement (accum)'!P35 -> -110945 | U35: ='2. Income Statement (accum)'!Q35-'2. Income Statement (accum)'!P35 -> -1019 | V35: ='2. Income Statement (accum)'!R35-'2. Income Statement (accum)'!Q35 -> -71020 | W35: =U35+V35 -> -72039 | X35: ='2. Income Statement (accum)'!S35 -> -89248
